BEGIN:VCALENDAR
VERSION:2.0
PRODID:spatie/icalendar-generator
DESCRIPTION:Veranstaltungen von Geschwister-Scholl-Schule Forchtenberg
X-WR-CALDESC:Veranstaltungen von Geschwister-Scholl-Schule Forchtenberg
REFRESH-INTERVAL;VALUE=DURATION:PT1440M
X-PUBLISHED-TTL:PT1440M
BEGIN:VTIMEZONE
TZID:Europe/Berlin
BEGIN:STANDARD
DTSTART:20221030T030000Z
TZOFFSETFROM:+0200
TZOFFSETTO:+0100
END:STANDARD
BEGIN:DAYLIGHT
DTSTART:20230326T020000Z
TZOFFSETFROM:+0100
TZOFFSETTO:+0200
END:DAYLIGHT
END:VTIMEZONE
BEGIN:VTIMEZONE
TZID:UTC
BEGIN:STANDARD
DTSTART:20250726T083719Z
TZOFFSETFROM:+0000
TZOFFSETTO:+0000
END:STANDARD
END:VTIMEZONE
BEGIN:VEVENT
UID:7-6
DTSTAMP:20260422T083719Z
SUMMARY:Zeugnis
LOCATION:
ORGANIZER;CN=Andrea Reuther:MAILTO:poststelle@04115186.schule.bwl.de
DTSTART;TZID=Europe/Berlin;VALUE=DATE:20230203
DTEND;TZID=Europe/Berlin;VALUE=DATE:20230204
X-ALT-DESC;FMTTYPE=TEXT/HTML:<p>Zeugnis- und Halbjahresinformationsausgabe 
 der Klasse 4 (GS-Empfehlung)<br />\nA. Reuther</p>\n
CATEGORIES:Grundschule
URL;VALUE=URI:https://gss-forchtenberg.de/mc-events/zeugnis/
METHOD:PUBLISH
END:VEVENT
END:VCALENDAR