BEGIN:VCALENDAR
VERSION:2.0
PRODID:spatie/icalendar-generator
DESCRIPTION:Veranstaltungen von Geschwister-Scholl-Schule Forchtenberg
X-WR-CALDESC:Veranstaltungen von Geschwister-Scholl-Schule Forchtenberg
REFRESH-INTERVAL;VALUE=DURATION:PT1440M
X-PUBLISHED-TTL:PT1440M
BEGIN:VTIMEZONE
TZID:Europe/Berlin
BEGIN:STANDARD
DTSTART:20231029T030000Z
TZOFFSETFROM:+0200
TZOFFSETTO:+0100
END:STANDARD
BEGIN:DAYLIGHT
DTSTART:20240331T020000Z
TZOFFSETFROM:+0100
TZOFFSETTO:+0200
END:DAYLIGHT
END:VTIMEZONE
BEGIN:VTIMEZONE
TZID:UTC
BEGIN:STANDARD
DTSTART:20250726T095848Z
TZOFFSETFROM:+0000
TZOFFSETTO:+0000
END:STANDARD
END:VTIMEZONE
BEGIN:VEVENT
UID:45-43
DTSTAMP:20260422T095848Z
SUMMARY:Ausgabe der Grundschulempfehlung an die Eltern gemeinsam mit der Ha
 lbjahresinformation der Klasse 4
LOCATION:
ORGANIZER;CN=Andrea Reuther:MAILTO:poststelle@04115186.schule.bwl.de
DTSTART;TZID=Europe/Berlin:20240209T000000
DTEND;TZID=Europe/Berlin:20240209T010000
X-ALT-DESC;FMTTYPE=TEXT/HTML:
CATEGORIES:Allgemein
URL;VALUE=URI:https://gss-forchtenberg.de/mc-events/ausgabe-der-grundschule
 mpfehlung-an-die-eltern-gemeinsam-mit-der-halbjahresinformation-der-klasse
 -4/
METHOD:PUBLISH
END:VEVENT
END:VCALENDAR