BEGIN:VCALENDAR
VERSION:2.0
PRODID:spatie/icalendar-generator
DESCRIPTION:Veranstaltungen von Geschwister-Scholl-Schule Forchtenberg
X-WR-CALDESC:Veranstaltungen von Geschwister-Scholl-Schule Forchtenberg
REFRESH-INTERVAL;VALUE=DURATION:PT1440M
X-PUBLISHED-TTL:PT1440M
BEGIN:VTIMEZONE
TZID:Europe/Berlin
BEGIN:DAYLIGHT
DTSTART:20260329T020000Z
TZOFFSETFROM:+0100
TZOFFSETTO:+0200
END:DAYLIGHT
BEGIN:STANDARD
DTSTART:20261025T030000Z
TZOFFSETFROM:+0200
TZOFFSETTO:+0100
END:STANDARD
END:VTIMEZONE
BEGIN:VTIMEZONE
TZID:UTC
BEGIN:STANDARD
DTSTART:20250728T082221Z
TZOFFSETFROM:+0000
TZOFFSETTO:+0000
END:STANDARD
END:VTIMEZONE
BEGIN:VEVENT
UID:153-130
DTSTAMP:20260424T082221Z
SUMMARY:Zeugnisausgabe + letzter Tag vor den Sommerferien
LOCATION:
ORGANIZER;CN=Andrea Reuther:MAILTO:poststelle@04115186.schule.bwl.de
DTSTART;TZID=Europe/Berlin;VALUE=DATE:20260729
DTEND;TZID=Europe/Berlin;VALUE=DATE:20260730
X-ALT-DESC;FMTTYPE=TEXT/HTML:
CATEGORIES:Allgemein
URL;VALUE=URI:https://gss-forchtenberg.de/mc-events/zeugnisausgabe-letzter-
 tag-vor-den-sommerferien/
METHOD:PUBLISH
END:VEVENT
END:VCALENDAR