BEGIN:VCALENDAR
VERSION:2.0
PRODID:spatie/icalendar-generator
DESCRIPTION:Veranstaltungen von Geschwister-Scholl-Schule Forchtenberg
X-WR-CALDESC:Veranstaltungen von Geschwister-Scholl-Schule Forchtenberg
REFRESH-INTERVAL;VALUE=DURATION:PT1440M
X-PUBLISHED-TTL:PT1440M
BEGIN:VTIMEZONE
TZID:Europe/Berlin
BEGIN:STANDARD
DTSTART:20251026T030000Z
TZOFFSETFROM:+0200
TZOFFSETTO:+0100
END:STANDARD
BEGIN:DAYLIGHT
DTSTART:20260329T020000Z
TZOFFSETFROM:+0100
TZOFFSETTO:+0200
END:DAYLIGHT
END:VTIMEZONE
BEGIN:VTIMEZONE
TZID:UTC
BEGIN:STANDARD
DTSTART:20250727T101201Z
TZOFFSETFROM:+0000
TZOFFSETTO:+0000
END:STANDARD
END:VTIMEZONE
BEGIN:VEVENT
UID:140-123
DTSTAMP:20260423T101201Z
SUMMARY:Anmeldung der Schüler/-innen nach der Grundschulempfehlung für di
 e weiterführenden Schulen
LOCATION:
ORGANIZER;CN=Andrea Reuther:MAILTO:poststelle@04115186.schule.bwl.de
DTSTART;TZID=Europe/Berlin;VALUE=DATE:20260309
DTEND;TZID=Europe/Berlin;VALUE=DATE:20260313
X-ALT-DESC;FMTTYPE=TEXT/HTML:
CATEGORIES:Allgemein
URL;VALUE=URI:https://gss-forchtenberg.de/mc-events/anmeldung-der-schueler-
 innen-nach-der-grundschulempfehlung-fuer-die-weiterfuehrenden-schulen-3/
METHOD:PUBLISH
END:VEVENT
END:VCALENDAR