BEGIN:VCALENDAR
VERSION:2.0
PRODID:spatie/icalendar-generator
DESCRIPTION:Veranstaltungen von Geschwister-Scholl-Schule Forchtenberg
X-WR-CALDESC:Veranstaltungen von Geschwister-Scholl-Schule Forchtenberg
REFRESH-INTERVAL;VALUE=DURATION:PT1440M
X-PUBLISHED-TTL:PT1440M
BEGIN:VTIMEZONE
TZID:Europe/Berlin
BEGIN:STANDARD
DTSTART:20221030T030000Z
TZOFFSETFROM:+0200
TZOFFSETTO:+0100
END:STANDARD
BEGIN:DAYLIGHT
DTSTART:20230326T020000Z
TZOFFSETFROM:+0100
TZOFFSETTO:+0200
END:DAYLIGHT
END:VTIMEZONE
BEGIN:VTIMEZONE
TZID:UTC
BEGIN:STANDARD
DTSTART:20250727T113401Z
TZOFFSETFROM:+0000
TZOFFSETTO:+0000
END:STANDARD
END:VTIMEZONE
BEGIN:VEVENT
UID:10-9
DTSTAMP:20260423T113401Z
SUMMARY:Abmeldung Religionsunterricht
LOCATION:
ORGANIZER;CN=Andrea Reuther:MAILTO:poststelle@04115186.schule.bwl.de
DTSTART;TZID=Europe/Berlin:20230215T000000
DTEND;TZID=Europe/Berlin:20230215T010000
X-ALT-DESC;FMTTYPE=TEXT/HTML:<p>Letzter Termin für die Abmeldung vom Relig
 ionsunterricht für das 2. Schulhalbjahr<br />\nA. Reuther</p>\n
CATEGORIES:Grundschule
URL;VALUE=URI:https://gss-forchtenberg.de/mc-events/abmeldung-religionsunte
 rricht/
METHOD:PUBLISH
END:VEVENT
END:VCALENDAR